BEGIN:VCALENDAR
VERSION:2.0
PRODID:-//eventon.com NONSGML v1.0//EN
CALSCALE:GREGORIAN
METHOD:PUBLISH
BEGIN:VEVENT
UID:69e601cdd2b20
DTSTAMP:20260420T103701Z
DTSTART:20230807T120000Z
DTEND:20230810T210000Z
LOCATION:
SUMMARY:Active Shooter Threat Training Program (Gurabo\, PR)
DESCRIPTION:Información: 787-691-2271 Instrucciones para Registrarse 1. En
 tre al link&nbsp;https://registration.nhac.org 2. User: Class 3. Password:&
 nbsp;$Training33172 4. Seleccione&nbsp;Puerto Rico/ U.S. Virgin Islands HID
 TA 5. Escoja el link “Click to view Training Events” 6. Presione el tí
 tulo del curso que desea tomar 7. Complete el formulario de registro 8. Sel
 eccione “Complete Registration” *El[..]\nhttps://prvihidta.org/events/a
 ctive-shooter-threat-training-program-gurabopr/
URL:https://prvihidta.org/events/active-shooter-threat-training-program-gurabopr/
END:VEVENT
END:VCALENDAR